BEGIN:VCALENDAR
VERSION:2.0
PRODID:-//ChamberMaster//Event Calendar 2.0//EN
METHOD:PUBLISH
X-PUBLISHED-TTL:P1H
REFRESH-INTERVAL:P1H
CALSCALE:GREGORIAN
BEGIN:VTIMEZONE
TZID:America/Chicago
BEGIN:DAYLIGHT
RRULE:FREQ=YEARLY;BYMONTH=3;BYDAY=2SU
DTSTART:20070101T000000
TZOFFSETFROM:-0600
TZOFFSETTO:-0500
TZNAME:Central Daylight Time
END:DAYLIGHT
BEGIN:STANDARD
RRULE:FREQ=YEARLY;BYMONTH=11;BYDAY=1SU
DTSTART:20070101T000000
TZOFFSETFROM:-0500
TZOFFSETTO:-0600
TZNAME:Central Standard Time
END:STANDARD
END:VTIMEZONE
BEGIN:VEVENT
DTSTART;TZID=America/Chicago:20260509T200000
DTEND;TZID=America/Chicago:20260510T000000
X-MICROSOFT-CDO-ALLDAYEVENT:FALSE
SUMMARY:UFC 328 Viewing Party at Mac’s Wood Grilled
DESCRIPTION:Mac's Wood Grilled hosts a UFC 328 viewing party on Saturday\, May 9! The middleweight title is on the line in the headliner when champion Khamzat Chimaev battles Sean Strickland. It is Chimaev's first defense since dethroning Dricus du Plessis. The co-main: undefeated flyweight champion Joshua Van risks his belt for the first time in a high-stakes showdown with Tatsuro Taira. \n\nDrink deals include $6 Proper No. Twelve Irish Whiskey Shots\, $4 Paddy Irish Whiskey shots\, $5 Skrewball Peanut Butter Whiskey shots\, $5 vodka Mules\, $4 Pink Whitney Vodka shots\, $5 Bloody Marys\, and $5 house vodka cocktails (excludes Red Bull). NO RESERVATIONS. Seating is first come\, first served. No cover charge: food and drink prices vary. The viewing party is a 21+ event. Mac's Wood Grilled is open from 11 a.m.-3 a.m. Saturday\, May 9. The main card pay-per-view starts at 8 p.m. CST/CDT.
X-ALT-DESC;FMTTYPE=text/html:<!DOCTYPE html><html><head><title></title></head><body aria-disabled="false"><p>Mac&rsquo\;s Wood Grilled hosts a UFC 328 viewing party on Saturday\, May 9! The middleweight title is on the line in the headliner when champion Khamzat Chimaev battles Sean Strickland. It is Chimaev&rsquo\;s first defense since dethroning Dricus du Plessis. The co-main: undefeated flyweight champion Joshua Van risks his belt for the first time in a high-stakes showdown with Tatsuro Taira. <br><br>Drink deals include $6 Proper No. Twelve Irish Whiskey Shots\, $4 Paddy Irish Whiskey shots\, $5 Skrewball Peanut Butter Whiskey shots\, $5 vodka Mules\, $4 Pink Whitney Vodka shots\, $5 Bloody Marys\, and $5 house vodka cocktails (excludes Red Bull). NO RESERVATIONS. Seating is first come\, first served. No cover charge: food and drink prices vary. The viewing party is a 21+ event. Mac&rsquo\;s Wood Grilled is open from 11 a.m.-3 a.m. Saturday\, May 9. The main card pay-per-view starts at 8 p.m. CST/CDT.</p></body></html>
LOCATION:1801 W. Division St. Chicago IL 60622
UID:e.3838.1447057
SEQUENCE:3
DTSTAMP:20260422T160353Z
URL:https://business.wickerparkbucktown.com/chamber-events/Details/ufc-328-viewing-party-at-mac-s-wood-grilled-1713879?sourceTypeId=Hub
END:VEVENT
END:VCALENDAR
