BEGIN:VCALENDAR
VERSION:2.0
PRODID:-//ChamberMaster//Event Calendar 2.0//EN
METHOD:PUBLISH
X-PUBLISHED-TTL:P1H
REFRESH-INTERVAL:P1H
CALSCALE:GREGORIAN
BEGIN:VTIMEZONE
TZID:America/Chicago
BEGIN:DAYLIGHT
RRULE:FREQ=YEARLY;BYMONTH=3;BYDAY=2SU
DTSTART:20070101T000000
TZOFFSETFROM:-0600
TZOFFSETTO:-0500
TZNAME:Central Daylight Time
END:DAYLIGHT
BEGIN:STANDARD
RRULE:FREQ=YEARLY;BYMONTH=11;BYDAY=1SU
DTSTART:20070101T000000
TZOFFSETFROM:-0500
TZOFFSETTO:-0600
TZNAME:Central Standard Time
END:STANDARD
END:VTIMEZONE
BEGIN:VEVENT
DTSTART;VALUE=DATE:20260915
DTEND;VALUE=DATE:20260916
TRANSP:TRANSPARENT
X-MICROSOFT-CDO-ALLDAYEVENT:TRUE
SUMMARY:Q3 2026 Estimated Tax Deadline
DESCRIPTION:Tuesday\, September 15\, 2026 is the Q3 2026 estimated tax deadline. If you expect to owe the IRS and/or Illinois $1\,000 in April of next year\, you are supposed to make quarterly estimated tax payments. If you don't\, you will be subject to the estimated tax penalty. Please reach out to Wilson CPA Services if you would like help estimating your tax liability for 2026\, figuring out whether you should make these payments and what amount.
X-ALT-DESC;FMTTYPE=text/html:Tuesday\, September 15\, 2026 is the Q3 2026 estimated tax deadline. If you expect to owe the IRS and/or Illinois $1\,000 in April of next year\, you are supposed to make quarterly estimated tax payments. If you don't\, you will be subject to the estimated tax penalty. Please reach out to Wilson CPA Services if you would like help estimating your tax liability for 2026\, figuring out whether you should make these payments and what amount.
LOCATION:
UID:e.3838.1446563
SEQUENCE:3
DTSTAMP:20260423T114654Z
URL:https://business.wickerparkbucktown.com/chamber-events/Details/q3-2026-estimated-tax-deadline-1713338?sourceTypeId=Hub
END:VEVENT
END:VCALENDAR
