BEGIN:VCALENDAR
VERSION:2.0
PRODID:-//ChamberMaster//Event Calendar 2.0//EN
METHOD:PUBLISH
X-PUBLISHED-TTL:P1H
REFRESH-INTERVAL:P1H
CALSCALE:GREGORIAN
BEGIN:VTIMEZONE
TZID:America/Chicago
BEGIN:DAYLIGHT
RRULE:FREQ=YEARLY;BYMONTH=3;BYDAY=2SU
DTSTART:20070101T000000
TZOFFSETFROM:-0600
TZOFFSETTO:-0500
TZNAME:Central Daylight Time
END:DAYLIGHT
BEGIN:STANDARD
RRULE:FREQ=YEARLY;BYMONTH=11;BYDAY=1SU
DTSTART:20070101T000000
TZOFFSETFROM:-0500
TZOFFSETTO:-0600
TZNAME:Central Standard Time
END:STANDARD
END:VTIMEZONE
BEGIN:VEVENT
DTSTART;TZID=America/Chicago:20260506T180000
DTEND;TZID=America/Chicago:20260506T200000
X-MICROSOFT-CDO-ALLDAYEVENT:FALSE
SUMMARY:Paint Your Pet
DESCRIPTION:Create a masterpiece portrait of your pet at our Paint your Pet Workshop! $50USD per person. Reserve your spot here!\nWe'll help you create a custom portrait of your pet.. Dog\, Cat\, Hamster\, bird\, hedgehog\, pig .Turn your beloved pet photo into a hand painted masterpiece! Bring your friends\, uncork your favorite bottle of wine or beer\, and paint your best friend. In this engaging workshop\, you will learn how to paint your pet with skill and precision. Our experienced instructor will guide you through the process step by step\, from capturing your pet's likeness to shading and detailing their unique features. By the end of the class\, you'll have a beautiful portrait of your furry friend to take home and cherish. Don't worry if you're a beginner   this class is designed for all levels\, and no previous experience is required. You'll be amazed at what you can create with acrylic paint and canvas! \nOnce you have made your reservation email a color\, high res or great quality photo of your info@onestrangebird.com. Our talented artists will sketch your pet on a canvas before you arrive so you're all set and ready to go! The canvas and a custom paint palette are ready when you arrive. You paint the portrait\, but our artists teach you the techniques. They'll show you how to paint backgrounds\, realistic fur\, and little wet noses.
X-ALT-DESC;FMTTYPE=text/html:<!DOCTYPE html><html><head><title></title></head><body aria-disabled="false"><p>Create a masterpiece portrait of your pet at our Paint your Pet Workshop! $50USD per person. Reserve your spot <a fr-original-style="" href="https://onestrangebird.com/products/paint-your-pet-wednesday-may-6th-6-00-8-00?variant=49691658387693" style="user-select: auto\;">here</a>!</p><p><br></p><p>We&rsquo\;ll help you create a custom portrait of your pet.. Dog\, Cat\, Hamster\, bird\, hedgehog\, pig&hellip\;.Turn your beloved pet photo into a hand painted masterpiece! Bring your friends\, uncork your favorite bottle of wine or beer\, and paint your best friend. In this engaging workshop\, you will learn how to paint your pet with skill and precision. Our experienced instructor will guide you through the process step by step\, from capturing your pet&#39\;s likeness to shading and detailing their unique features. By the end of the class\, you&#39\;ll have a beautiful portrait of your furry friend to take home and cherish. Don&#39\;t worry if you&#39\;re a beginner &ndash\; this class is designed for all levels\, and no previous experience is required. You&#39\;ll be amazed at what you can create with acrylic paint and canvas!&nbsp\;</p><p><br></p><p>Once you have made your reservation email a color\, high res or great quality photo of your info@onestrangebird.com. Our talented artists will sketch your pet on a canvas before you arrive so you&rsquo\;re all set and ready to go! The canvas and a custom paint palette are ready when you arrive. You paint the portrait\, but our artists teach you the techniques. They&rsquo\;ll show you how to paint backgrounds\, realistic fur\, and little wet noses.</p></body></html>
LOCATION:2124 W Division St Chicago IL 60622
UID:e.3838.1447511
SEQUENCE:3
DTSTAMP:20260422T154940Z
URL:https://business.wickerparkbucktown.com/chamber-events/Details/paint-your-pet-1714452?sourceTypeId=Hub
END:VEVENT
END:VCALENDAR
