BEGIN:VCALENDAR
VERSION:2.0
PRODID:-//ChamberMaster//Event Calendar 2.0//EN
METHOD:PUBLISH
X-PUBLISHED-TTL:P1H
REFRESH-INTERVAL:P1H
CALSCALE:GREGORIAN
BEGIN:VTIMEZONE
TZID:America/Chicago
BEGIN:DAYLIGHT
RRULE:FREQ=YEARLY;BYMONTH=3;BYDAY=2SU
DTSTART:20070101T000000
TZOFFSETFROM:-0600
TZOFFSETTO:-0500
TZNAME:Central Daylight Time
END:DAYLIGHT
BEGIN:STANDARD
RRULE:FREQ=YEARLY;BYMONTH=11;BYDAY=1SU
DTSTART:20070101T000000
TZOFFSETFROM:-0500
TZOFFSETTO:-0600
TZNAME:Central Standard Time
END:STANDARD
END:VTIMEZONE
BEGIN:VEVENT
DTSTART;TZID=America/Chicago:20260502T110000
DTEND;TZID=America/Chicago:20260506T020000
X-MICROSOFT-CDO-ALLDAYEVENT:FALSE
SUMMARY:Cinco De Derby Weekend at Mac’s Wood Grilled
DESCRIPTION:Mac's Wood Grilled celebrates Cinco de Mayo and the Kentucky Derby by adding all-day Cinco de Derby specials Saturday\, May 2 through Tuesday\, May 5. All-day drink deals include: $4 Modelo bottles\, $6 Teremana Tequila Blanco shots\, and $12 Woodford Reserve Mint Juleps\, which are made with mint simple syrup and fresh mint. Additional specials include $18 Steak Taco Platters (wood-grilled skirt steak with white onions\, cilantro\, and corn tortillas)\, and $13 Chicken Taco Platters (marinated chicken breast with house pico de gallo\, sour cream\, and corn tortillas). Both platters include two tacos served with tortilla chips and house salsa verde.\n\n\nOn Saturday\, May 2\, watch the Kentucky Derby undercard and pre-race coverage starting at 11 a.m. and the 152nd running of the Kentucky Derby (5:57 p.m. approximate post time). Toast the Run for the Roses with $12 Woodford Reserve Mint Julep or choose from the daily drink deal lineup: $4 Paddy's Irish Whiskey shots\, $4 Pink Whitney shots\, $5 Skrewball Peanut Butter Whiskey shots\, $5 house vodka Mules\, $5 Bloody Marys\, and $5 house vodka cocktails (excludes Red Bull). The specials are offered during regular business hours May 2-5.
X-ALT-DESC;FMTTYPE=text/html:<!DOCTYPE html><html><head><title></title></head><body aria-disabled="false"><p>Mac&rsquo\;s Wood Grilled celebrates Cinco de Mayo and the Kentucky Derby by adding all-day Cinco de Derby specials Saturday\, May 2 through Tuesday\, May 5. All-day drink deals include: $4 Modelo bottles\, $6 Teremana Tequila Blanco shots\, and $12 Woodford Reserve Mint Juleps\, which are made with mint simple syrup and fresh mint. Additional specials include $18 Steak Taco Platters (wood-grilled skirt steak with white onions\, cilantro\, and corn tortillas)\, and $13 Chicken Taco Platters (marinated chicken breast with house pico de gallo\, sour cream\, and corn tortillas). Both platters include two tacos served with tortilla chips and house salsa verde.<br><br><br>On Saturday\, May 2\, watch the Kentucky Derby undercard and pre-race coverage starting at 11 a.m. and the 152nd running of the Kentucky Derby (5:57 p.m. approximate post time). Toast the Run for the Roses with $12 Woodford Reserve Mint Julep or choose from the daily drink deal lineup: $4 Paddy&rsquo\;s Irish Whiskey shots\, $4 Pink Whitney shots\, $5 Skrewball Peanut Butter Whiskey shots\, $5 house vodka Mules\, $5 Bloody Marys\, and $5 house vodka cocktails (excludes Red Bull). The specials are offered during regular business hours May 2-5.</p></body></html>
LOCATION:1801 W. Division St. Chicago IL 60622
UID:e.3838.1448727
SEQUENCE:3
DTSTAMP:20260422T154558Z
URL:https://business.wickerparkbucktown.com/chamber-events/Details/cinco-de-derby-weekend-at-mac-s-wood-grilled-1715937?sourceTypeId=Hub
END:VEVENT
END:VCALENDAR
