BEGIN:VCALENDAR
VERSION:2.0
PRODID:-//ChamberMaster//Event Calendar 2.0//EN
METHOD:PUBLISH
X-PUBLISHED-TTL:P1H
REFRESH-INTERVAL:P1H
CALSCALE:GREGORIAN
BEGIN:VTIMEZONE
TZID:America/Chicago
BEGIN:DAYLIGHT
RRULE:FREQ=YEARLY;BYMONTH=3;BYDAY=2SU
DTSTART:20070101T000000
TZOFFSETFROM:-0600
TZOFFSETTO:-0500
TZNAME:Central Daylight Time
END:DAYLIGHT
BEGIN:STANDARD
RRULE:FREQ=YEARLY;BYMONTH=11;BYDAY=1SU
DTSTART:20070101T000000
TZOFFSETFROM:-0500
TZOFFSETTO:-0600
TZNAME:Central Standard Time
END:STANDARD
END:VTIMEZONE
BEGIN:VEVENT
DTSTART;TZID=America/Chicago:20260520T183000
DTEND;TZID=America/Chicago:20260520T203000
X-MICROSOFT-CDO-ALLDAYEVENT:FALSE
SUMMARY:BYOB Stained Glass: Window Hanging
DESCRIPTION:Create your own stained glass window hanging! $55USD per person. Book your spot here! \nIn this two-hour BYOB class\, participants will sip\, socialize\, and create a sparkling stained glass window hanging using glass\, wire\, and beads. You'll choose your stained glass pieces\, learn how to wrap them in copper foil\, and dive into the satisfying art of soldering as your design comes to life piece by piece. \nAll materials and step-by-step instruction are provided\, and no experience is needed. This lively and creative class is perfect for a night out with friends or a solo creative adventure   and you'll leave with a handcrafted window hanging ready to catch the light and show off.
X-ALT-DESC;FMTTYPE=text/html:<!DOCTYPE html><html><head><title></title></head><body aria-disabled="false"><p>Create your own stained glass window hanging! $55USD per person. Book your spot <a fr-original-style="" href="https://onestrangebird.com/products/byob-stained-glass-window-hanging-wed-may-20th-6-30-8-30pm?variant=49762258747629" style="user-select: auto\;">here</a>!&nbsp\;</p><p><br></p><p>In this two-hour BYOB class\, participants will sip\, socialize\, and create a sparkling stained glass window hanging using glass\, wire\, and beads. You&rsquo\;ll choose your stained glass pieces\, learn how to wrap them in copper foil\, and dive into the satisfying art of soldering as your design comes to life piece by piece.&nbsp\;</p><p><br></p><p>All materials and step-by-step instruction are provided\, and no experience is needed. This lively and creative class is perfect for a night out with friends or a solo creative adventure &mdash\; and you&rsquo\;ll leave with a handcrafted window hanging ready to catch the light and show off.</p></body></html>
LOCATION:2124 W Division St Chicago IL 60622
UID:e.3838.1447522
SEQUENCE:3
DTSTAMP:20260422T154444Z
URL:https://business.wickerparkbucktown.com/chamber-events/Details/byob-stained-glass-window-hanging-1714463?sourceTypeId=Hub
END:VEVENT
END:VCALENDAR
